BEGIN:VCALENDAR
VERSION:2.0
METHOD:PUBLISH
PRODID:-//Agenda.ad//NONSGML v1.0//EN
BEGIN:VEVENT
CLASS:PUBLIC
UID:5f7f61ee9216d49ef4d575ec51d31d19@agenda.ad
DTSTAMP:20260419T162836Z
DTSTART:20251123T230000Z
DTEND:20260330T220000Z
SUMMARY:<em>"Respirs de Canillo"</em>&nbsp;de Naiara Escabias
DESCRIPTION:\n\nMés informació\nhttps://www.agenda.ad/activitat/canill
 o/exposicions/respirs-de-canillo de-naiara-escabias\nDepart
 ament de Cultura i Tradicions / Tel.: (+376) 670 342 / cultu
 raitradicions@canillo.ad\n\nOrganitza\nComú de Canillo
LOCATION:Canillo
SEQUENCE:0
TRANSP:OPAQUE
X-ALT-DESC;FMTTYPE=text/html:<!DOCTYPE HTML PUBLIC "-//W3C//DTD HTML 3.2//EN"><HTML><HEAD
 ><TITLE></TITLE></HEAD><BODY><FONT FACE="Arial" SIZE=2><br/>
 <br/><b>Més informació</b><br/><a href="https://www.agenda
 .ad/activitat/canillo/exposicions/respirs-de-canillo de-nai
 ara-escabias">https://www.agenda.ad/activitat/canillo/exposi
 cions/respirs-de-canillo de-naiara-escabias</a><br/>Departa
 ment de Cultura i Tradicions / Tel.: (+376) 670 342 / cultur
 aitradicions@canillo.ad<br/><br/><b>Organitza</b><br/>Comú 
 de Canillo</FONT></BODY></HTML>
END:VEVENT
END:VCALENDAR